BEGIN:VCALENDAR
VERSION:2.0
METHOD:PUBLISH
PRODID::-//Obvius//NONSGML ICal//DA
BEGIN:VEVENT
UID:2093883@lingvistkredsen.ku.dk
DESCRIPTION:\n\nhttps://lingvistkredsen.ku.dk/studenterkonference/ssk2016/
 
SUMMARY:Sprogvidenskabelig studenterkonference &#8211\; SSK 2016
LOCATION:Lokale 22.0.11 på KUA\, Njalsgade 120\, 2300 København S
DTSTART:20161104T110000Z
DTSTAMP:20161104T110000Z
DTEND:20161104T160000Z
END:VEVENT
END:VCALENDAR
