BEGIN:VCALENDAR
VERSION:2.0
METHOD:PUBLISH
PRODID::-//Obvius//NONSGML ICal//DA
BEGIN:VEVENT
UID:3316795@lingvistkredsen.ku.dk
DESCRIPTION:Forelæsning ved Marianne Gullberg\, professor i almen sprogvi
 denskab og direktør for Humanistlaboratoriet ved Lunds Universitet.\n\nht
 tps://lingvistkredsen.ku.dk/kalender/2019/the-bimodal-nature/
SUMMARY:The bimodal nature of discourse - comparisons of speech and gestur
 e across languages and genres
CATEGORIES:forelæsning
LOCATION:TBA
ORGANIZER:Lingvistkredsen
DTSTART:20190613T151500Z
DTSTAMP:20190613T151500Z
DTEND:20190613T170000Z
END:VEVENT
END:VCALENDAR
