BEGIN:VCALENDAR
VERSION:2.0
METHOD:PUBLISH
PRODID::-//Obvius//NONSGML ICal//DA
BEGIN:VEVENT
UID:3064482@lingvistkredsen.ku.dk
DESCRIPTION:Debat med Peter Widell fra Aarhus Universitet og Peter Harder 
 fra Københavns Universitet.\n\nhttps://lingvistkredsen.ku.dk/kalender/eft
 eraar-2018/formel-vs.-funktionel-semantik-en-debat/
SUMMARY:Formel vs. funktionel semantik: en debat
CATEGORIES:debatmøde
LOCATION:KUA1\, lokale 27.0.09
ORGANIZER:Lingvistkredsen
DTSTART:20181204T161500Z
DTSTAMP:20181204T161500Z
DTEND:20181204T190000Z
END:VEVENT
END:VCALENDAR
