BEGIN:VCALENDAR
VERSION:2.0
METHOD:PUBLISH
PRODID::-//Obvius//NONSGML ICal//DA
BEGIN:VEVENT
UID:3064500@lingvistkredsen.ku.dk
DESCRIPTION:Årsmøde i lingvistkredsen med dertilhørende foredrag\, hvor
  Karoline Kühl fortæller om dansk sprog talt i udlandet. \n\nhttps://li
 ngvistkredsen.ku.dk/kalender/efteraar-2018/lingvistkredsens-aarsmoede/
SUMMARY:Lingvistkredsens årsmøde med foredrag ved Karoline Kühl (Køben
 havns Universitet): Dansk rundt omkring i verden i et kontaktlingvistisk p
 erspektiv
CATEGORIES:debatmøde
LOCATION:KUA1\, lokale 27.0.09
ORGANIZER:Lingvistkredsen
DTSTART:20181113T171500Z
DTSTAMP:20181113T171500Z
DTEND:20181113T193000Z
END:VEVENT
END:VCALENDAR
